BEGIN:VCALENDAR
VERSION:2.0
PRODID:-//WASPO Essen 1912 e.V. - ECPv6.3.5//NONSGML v1.0//EN
CALSCALE:GREGORIAN
METHOD:PUBLISH
X-ORIGINAL-URL:https://www.waspo-essen.de
X-WR-CALDESC:Veranstaltungen für WASPO Essen 1912 e.V.
REFRESH-INTERVAL;VALUE=DURATION:PT1H
X-Robots-Tag:noindex
X-PUBLISHED-TTL:PT1H
BEGIN:VTIMEZONE
TZID:Europe/Helsinki
BEGIN:DAYLIGHT
TZOFFSETFROM:+0200
TZOFFSETTO:+0300
TZNAME:EEST
DTSTART:20190331T010000
END:DAYLIGHT
BEGIN:STANDARD
TZOFFSETFROM:+0300
TZOFFSETTO:+0200
TZNAME:EET
DTSTART:20191027T010000
END:STANDARD
BEGIN:DAYLIGHT
TZOFFSETFROM:+0200
TZOFFSETTO:+0300
TZNAME:EEST
DTSTART:20200329T010000
END:DAYLIGHT
BEGIN:STANDARD
TZOFFSETFROM:+0300
TZOFFSETTO:+0200
TZNAME:EET
DTSTART:20201025T010000
END:STANDARD
END:VTIMEZONE
BEGIN:VEVENT
DTSTART;VALUE=DATE:20200620
DTEND;VALUE=DATE:20200621
DTSTAMP:20260425T183818
CREATED:20200122T114128Z
LAST-MODIFIED:20200122T114223Z
UID:1942-1592611200-1592697599@www.waspo-essen.de
SUMMARY:44. Internationales Schwimmfest in Kettwig
DESCRIPTION:Info’s folgen ..
URL:https://www.waspo-essen.de/kalender/44-internationales-schwimmfest-in-kettwig/
CATEGORIES:Jugendwettkampf
END:VEVENT
BEGIN:VEVENT
DTSTART;VALUE=DATE:20200529
DTEND;VALUE=DATE:20200603
DTSTAMP:20260425T183818
CREATED:20200122T114013Z
LAST-MODIFIED:20200122T114240Z
UID:1940-1590710400-1591142399@www.waspo-essen.de
SUMMARY:Jugendfahrt nach Dishoek
DESCRIPTION:Info’s wurden schon verteilt\, die restlichen Informationen gibt es von Daniela oder Detlef.
URL:https://www.waspo-essen.de/kalender/jugendfahrt-nach-dishoek/
CATEGORIES:Jugend-Event
END:VEVENT
BEGIN:VEVENT
DTSTART;VALUE=DATE:20200517
DTEND;VALUE=DATE:20200518
DTSTAMP:20260425T183818
CREATED:20200122T113910Z
LAST-MODIFIED:20200122T114248Z
UID:1938-1589673600-1589759999@www.waspo-essen.de
SUMMARY:Masters Ausflug
DESCRIPTION:Info’s folgen ..
URL:https://www.waspo-essen.de/kalender/masters-ausflug/
CATEGORIES:Masters-Event
END:VEVENT
BEGIN:VEVENT
DTSTART;VALUE=DATE:20200406
DTEND;VALUE=DATE:20200418
DTSTAMP:20260425T183818
CREATED:20200115T114520Z
LAST-MODIFIED:20200122T114259Z
UID:1928-1586131200-1587167999@www.waspo-essen.de
SUMMARY:Osterferien 06.04. - 17.04
DESCRIPTION:Ferien =)
URL:https://www.waspo-essen.de/kalender/osterferien-06-04-17-04/
CATEGORIES:Ferieninformation
END:VEVENT
BEGIN:VEVENT
DTSTART;VALUE=DATE:20200328
DTEND;VALUE=DATE:20200330
DTSTAMP:20260425T183818
CREATED:20200115T114258Z
LAST-MODIFIED:20200122T114308Z
UID:1926-1585353600-1585526399@www.waspo-essen.de
SUMMARY:Essener Langbahn - Stadtmeisterschaften in Rüttenscheid
DESCRIPTION:Infos folgen ..
URL:https://www.waspo-essen.de/kalender/essener-langbahn-stadtmeisterschaften-in-ruettenscheid/
CATEGORIES:Jugendwettkampf,Masterwettkampf
END:VEVENT
BEGIN:VEVENT
DTSTART;TZID=Europe/Helsinki:20200323T000000
DTEND;TZID=Europe/Helsinki:20200323T000000
DTSTAMP:20260425T183818
CREATED:20200113T121716Z
LAST-MODIFIED:20200122T114317Z
UID:1922-1584921600-1584921600@www.waspo-essen.de
SUMMARY:Waspo Jahreshauptversammlung
DESCRIPTION:Infos folgen ..
URL:https://www.waspo-essen.de/kalender/waspo-jahreshauptversammlung/
CATEGORIES:Informationsveranstalltung
END:VEVENT
BEGIN:VEVENT
DTSTART;TZID=Europe/Helsinki:20200314T000000
DTEND;TZID=Europe/Helsinki:20200314T000000
DTSTAMP:20260425T183818
CREATED:20200113T121643Z
LAST-MODIFIED:20200122T114326Z
UID:1920-1584144000-1584144000@www.waspo-essen.de
SUMMARY:Waspo Jugendvollversammlung
DESCRIPTION:Infos folgen ..
URL:https://www.waspo-essen.de/kalender/waspo-jugendvollversammlung/
CATEGORIES:Informationsveranstalltung
END:VEVENT
BEGIN:VEVENT
DTSTART;TZID=Europe/Helsinki:20200307T140000
DTEND;TZID=Europe/Helsinki:20200307T160000
DTSTAMP:20260425T183818
CREATED:20200113T121620Z
LAST-MODIFIED:20200122T114337Z
UID:1918-1583589600-1583596800@www.waspo-essen.de
SUMMARY:Fussballnachmittag (Master)
DESCRIPTION:
URL:https://www.waspo-essen.de/kalender/fussballnachmittag-master-8/
CATEGORIES:Masters-Event
END:VEVENT
BEGIN:VEVENT
DTSTART;TZID=Europe/Helsinki:20200229T000000
DTEND;TZID=Europe/Helsinki:20200229T000000
DTSTAMP:20260425T183818
CREATED:20200113T121536Z
LAST-MODIFIED:20200122T114348Z
UID:1916-1582934400-1582934400@www.waspo-essen.de
SUMMARY:Waspo Sportnachmittag für Wettkampfmannschaft Jugend
DESCRIPTION:Uhrzeit folgt ..
URL:https://www.waspo-essen.de/kalender/waspo-sportnachmittag-fuer-wettkampfmannschaft-jugend/
CATEGORIES:Jugend-Event
END:VEVENT
BEGIN:VEVENT
DTSTART;VALUE=DATE:20200222
DTEND;VALUE=DATE:20200224
DTSTAMP:20260425T183818
CREATED:20200113T121218Z
LAST-MODIFIED:20200113T121330Z
UID:1912-1582329600-1582502399@www.waspo-essen.de
SUMMARY:20.Delphin - Mannschaftsmeisterschaftenam 22./23.2.2020
DESCRIPTION:!!! Auch Master-Wettkämpfe !!!(Sonntag) 20.Delphin – Mannschaftsmeisterschaftenam 22./23.2.2020 im Rüttenscheider Schwimmzentrum Essen (50m Bahn) Ausrichter: SV Delphin Tria Kettwig e.V.
URL:https://www.waspo-essen.de/kalender/20-delphin-mannschaftsmeisterschaftenam-22-23-2-2020/
CATEGORIES:Jugendwettkampf,Masterwettkampf
END:VEVENT
BEGIN:VEVENT
DTSTART;TZID=Europe/Helsinki:20200201T140000
DTEND;TZID=Europe/Helsinki:20200201T140000
DTSTAMP:20260425T183818
CREATED:20200113T121430Z
LAST-MODIFIED:20200113T121450Z
UID:1914-1580565600-1580565600@www.waspo-essen.de
SUMMARY:Fussballnachmittag (Master)
DESCRIPTION:
URL:https://www.waspo-essen.de/kalender/fussballnachmittag-master-7/
CATEGORIES:Masters-Event
END:VEVENT
BEGIN:VEVENT
DTSTART;VALUE=DATE:20200125
DTEND;VALUE=DATE:20200127
DTSTAMP:20260425T183818
CREATED:20200113T121053Z
LAST-MODIFIED:20200113T121109Z
UID:1910-1579910400-1580083199@www.waspo-essen.de
SUMMARY:„53. Nando-Burchard-Schwimmfest“am 25. und 26. Januar 2020
DESCRIPTION:Ausschreibung „53. Nando-Burchard-Schwimmfest“am 25. und 26. Januar 2020im SportbadThurmfeld\,Reckhammer Weg 84\, 45141EssenAusrichter: SV Steele 1911 / SV Horst 1919 \nhttps://www.waspo-essen.de/wp-content/uploads/2020/01/2020-01-26-Essen-Au.pdf
URL:https://www.waspo-essen.de/kalender/53-nando-burchard-schwimmfestam-25-und-26-januar-2020/
CATEGORIES:Jugendwettkampf
END:VEVENT
BEGIN:VEVENT
DTSTART;TZID=Europe/Helsinki:20191207T153000
DTEND;TZID=Europe/Helsinki:20191207T190000
DTSTAMP:20260425T183818
CREATED:20181219T201954Z
LAST-MODIFIED:20190112T191018Z
UID:1612-1575732600-1575745200@www.waspo-essen.de
SUMMARY:Nikolausfeier im Friedrichsbad
DESCRIPTION:
URL:https://www.waspo-essen.de/kalender/nikolausfeier-im-friedrichsbad/
LOCATION:Friedrichsbad\, Kerckhoffstraße 20B\, Essen\, 45144\, Deutschland
CATEGORIES:Event
END:VEVENT
BEGIN:VEVENT
DTSTART;TZID=Europe/Helsinki:20191109T140000
DTEND;TZID=Europe/Helsinki:20191109T160000
DTSTAMP:20260425T183818
CREATED:20181220T065740Z
LAST-MODIFIED:20181220T065740Z
UID:1650-1573308000-1573315200@www.waspo-essen.de
SUMMARY:Fussballnachmittag (Master)
DESCRIPTION:
URL:https://www.waspo-essen.de/kalender/fussballnachmittag-master-6/
CATEGORIES:Masters-Event
END:VEVENT
BEGIN:VEVENT
DTSTART;VALUE=DATE:20191025
DTEND;VALUE=DATE:20191026
DTSTAMP:20260425T183818
CREATED:20181220T063252Z
LAST-MODIFIED:20181220T063438Z
UID:1635-1571961600-1572047999@www.waspo-essen.de
SUMMARY:Ende Herbstferien
DESCRIPTION:
URL:https://www.waspo-essen.de/kalender/ende-herbstferien-2/
CATEGORIES:Ferieninformation
END:VEVENT
BEGIN:VEVENT
DTSTART;TZID=Europe/Helsinki:20191023T000000
DTEND;TZID=Europe/Helsinki:20191027T000000
DTSTAMP:20260425T183818
CREATED:20181220T063325Z
LAST-MODIFIED:20181220T063447Z
UID:1637-1571788800-1572134400@www.waspo-essen.de
SUMMARY:Herbstfahrt nach ...
DESCRIPTION:
URL:https://www.waspo-essen.de/kalender/herbstfahrt-nach/
CATEGORIES:Jugend-Event
END:VEVENT
BEGIN:VEVENT
DTSTART;VALUE=DATE:20191014
DTEND;VALUE=DATE:20191015
DTSTAMP:20260425T183818
CREATED:20181220T063232Z
LAST-MODIFIED:20181220T063456Z
UID:1633-1571011200-1571097599@www.waspo-essen.de
SUMMARY:Beginn Herbstferien
DESCRIPTION:
URL:https://www.waspo-essen.de/kalender/beginn-herbstferien-2/
CATEGORIES:Ferieninformation
END:VEVENT
BEGIN:VEVENT
DTSTART;TZID=Europe/Helsinki:20191012T000000
DTEND;TZID=Europe/Helsinki:20191013T000000
DTSTAMP:20260425T183818
CREATED:20181220T063207Z
LAST-MODIFIED:20190112T192137Z
UID:1631-1570838400-1570924800@www.waspo-essen.de
SUMMARY:21. SSSV B.G. Delphin Sprinttage im Bad am Thurmfeld
DESCRIPTION:
URL:https://www.waspo-essen.de/kalender/21-sssv-b-g-delphin-sprinttage-bad-am-thurmfeld/
LOCATION:Sportbad Thurmfeld\, Reckhammerweg 84\, Essen\, 45141\, Deutschland
CATEGORIES:Jugendwettkampf
END:VEVENT
BEGIN:VEVENT
DTSTART;TZID=Europe/Helsinki:20190921T000000
DTEND;TZID=Europe/Helsinki:20190922T000000
DTSTAMP:20260425T183818
CREATED:20181220T063126Z
LAST-MODIFIED:20190112T192105Z
UID:1628-1569024000-1569110400@www.waspo-essen.de
SUMMARY:Essener Kurzbahn - Stadtmeisterschaften im Bad am Thurmfeld
DESCRIPTION:
URL:https://www.waspo-essen.de/kalender/essener-kurzbahn-stadtmeisterschaften-im-bad-am-thurmfeld/
LOCATION:Sportbad Thurmfeld\, Reckhammerweg 84\, Essen\, 45141\, Deutschland
CATEGORIES:Jugendwettkampf
END:VEVENT
BEGIN:VEVENT
DTSTART;TZID=Europe/Helsinki:20190914T130000
DTEND;TZID=Europe/Helsinki:20190914T190000
DTSTAMP:20260425T183818
CREATED:20181220T062639Z
LAST-MODIFIED:20181220T063555Z
UID:1616-1568466000-1568487600@www.waspo-essen.de
SUMMARY:Grillfest am Friedrichsbad (Wettkämpfer und Familien)
DESCRIPTION:
URL:https://www.waspo-essen.de/kalender/grillfest-am-friedrichsbad-wettkaempfer-und-familien/
LOCATION:Friedrichsbad\, Kerckhoffstraße 20B\, Essen\, 45144\, Deutschland
CATEGORIES:Event
END:VEVENT
BEGIN:VEVENT
DTSTART;TZID=Europe/Helsinki:20190907T000000
DTEND;TZID=Europe/Helsinki:20190907T000000
DTSTAMP:20260425T183818
CREATED:20181220T063004Z
LAST-MODIFIED:20190112T192014Z
UID:1626-1567814400-1567814400@www.waspo-essen.de
SUMMARY:22. Int. Mastersschwimmfest SC Aegir im Bad am Thurmfeld (nur Master)
DESCRIPTION:
URL:https://www.waspo-essen.de/kalender/22-int-mastersschwimmfest-sc-aegir-im-bad-am-thurmfeld-nur-master/
LOCATION:Sportbad Thurmfeld\, Reckhammerweg 84\, Essen\, 45141\, Deutschland
CATEGORIES:Masterwettkampf
END:VEVENT
BEGIN:VEVENT
DTSTART;TZID=Europe/Helsinki:20190831T140000
DTEND;TZID=Europe/Helsinki:20190831T160000
DTSTAMP:20260425T183818
CREATED:20181220T064437Z
LAST-MODIFIED:20181220T064819Z
UID:1648-1567260000-1567267200@www.waspo-essen.de
SUMMARY:Fussballnachmittag (Master)
DESCRIPTION:
URL:https://www.waspo-essen.de/kalender/fussballnachmittag-master-5/
CATEGORIES:Masters-Event
END:VEVENT
BEGIN:VEVENT
DTSTART;VALUE=DATE:20190827
DTEND;VALUE=DATE:20190828
DTSTAMP:20260425T183818
CREATED:20181220T062911Z
LAST-MODIFIED:20181220T063630Z
UID:1624-1566864000-1566950399@www.waspo-essen.de
SUMMARY:Ende Sommerferien
DESCRIPTION:
URL:https://www.waspo-essen.de/kalender/ende-sommerferien-2/
CATEGORIES:Ferieninformation
END:VEVENT
BEGIN:VEVENT
DTSTART;VALUE=DATE:20190715
DTEND;VALUE=DATE:20190716
DTSTAMP:20260425T183818
CREATED:20181220T062853Z
LAST-MODIFIED:20181220T063638Z
UID:1622-1563148800-1563235199@www.waspo-essen.de
SUMMARY:Beginn Sommerferien
DESCRIPTION:
URL:https://www.waspo-essen.de/kalender/beginn-sommerferien-2/
CATEGORIES:Ferieninformation
END:VEVENT
BEGIN:VEVENT
DTSTART;VALUE=DATE:20190707
DTEND;VALUE=DATE:20190708
DTSTAMP:20260425T183818
CREATED:20181219T201914Z
LAST-MODIFIED:20181220T063646Z
UID:1610-1562457600-1562543999@www.waspo-essen.de
SUMMARY:Kinderausflug
DESCRIPTION:
URL:https://www.waspo-essen.de/kalender/kinderausflug/
CATEGORIES:Jugend-Event
END:VEVENT
BEGIN:VEVENT
DTSTART;TZID=Europe/Helsinki:20190706T140000
DTEND;TZID=Europe/Helsinki:20190706T160000
DTSTAMP:20260425T183818
CREATED:20181220T064344Z
LAST-MODIFIED:20181220T064344Z
UID:1646-1562421600-1562428800@www.waspo-essen.de
SUMMARY:Fussballnachmittag (Master)
DESCRIPTION:
URL:https://www.waspo-essen.de/kalender/fussballnachmittag-master-4/
CATEGORIES:Masters-Event
END:VEVENT
BEGIN:VEVENT
DTSTART;VALUE=DATE:20190629
DTEND;VALUE=DATE:20190701
DTSTAMP:20260425T183818
CREATED:20181220T062731Z
LAST-MODIFIED:20190112T191943Z
UID:1618-1561766400-1561939199@www.waspo-essen.de
SUMMARY:43. Int. Schwimmfest des SV Kettwig im Freibad Kettwig
DESCRIPTION:
URL:https://www.waspo-essen.de/kalender/43-int-schwimmfest-des-sv-kettwig-im-freibad-kettwig/
LOCATION:Schwimmzentrum Kettwig\, Im Teelbruch 10-12\, Essen\, 45219\, Deutschland
CATEGORIES:Jugendwettkampf
END:VEVENT
BEGIN:VEVENT
DTSTART;TZID=Europe/Helsinki:20190615T080000
DTEND;TZID=Europe/Helsinki:20190616T170000
DTSTAMP:20260425T183818
CREATED:20181219T201854Z
LAST-MODIFIED:20181220T063715Z
UID:1608-1560585600-1560704400@www.waspo-essen.de
SUMMARY:Mastersausflug
DESCRIPTION:Der Mastersausflug findet am 15.06. oder 16.06. statt
URL:https://www.waspo-essen.de/kalender/mastersausflug/
CATEGORIES:Masters-Event
END:VEVENT
BEGIN:VEVENT
DTSTART;TZID=Europe/Helsinki:20190511T140000
DTEND;TZID=Europe/Helsinki:20190511T160000
DTSTAMP:20260425T183818
CREATED:20181220T064310Z
LAST-MODIFIED:20181220T064310Z
UID:1644-1557583200-1557590400@www.waspo-essen.de
SUMMARY:Fussballnachmittag (Master)
DESCRIPTION:
URL:https://www.waspo-essen.de/kalender/fussballnachmittag-master-3/
CATEGORIES:Masters-Event
END:VEVENT
BEGIN:VEVENT
DTSTART;VALUE=DATE:20190426
DTEND;VALUE=DATE:20190427
DTSTAMP:20260425T183818
CREATED:20181219T201820Z
LAST-MODIFIED:20181220T063724Z
UID:1606-1556236800-1556323199@www.waspo-essen.de
SUMMARY:Ende Osterferien
DESCRIPTION:
URL:https://www.waspo-essen.de/kalender/ende-osterferien/
CATEGORIES:Ferieninformation
END:VEVENT
END:VCALENDAR